BEGIN:VCALENDAR
VERSION:2.0
PRODID:-//KB Excursions LLC - ECPv6.15.17.1//NONSGML v1.0//EN
CALSCALE:GREGORIAN
METHOD:PUBLISH
X-WR-CALNAME:KB Excursions LLC
X-ORIGINAL-URL:https://kbexcursions.com
X-WR-CALDESC:Events for KB Excursions LLC
REFRESH-INTERVAL;VALUE=DURATION:PT1H
X-Robots-Tag:noindex
X-PUBLISHED-TTL:PT1H
BEGIN:VTIMEZONE
TZID:America/Chicago
BEGIN:DAYLIGHT
TZOFFSETFROM:-0600
TZOFFSETTO:-0500
TZNAME:CDT
DTSTART:20250309T080000
END:DAYLIGHT
BEGIN:STANDARD
TZOFFSETFROM:-0500
TZOFFSETTO:-0600
TZNAME:CST
DTSTART:20251102T070000
END:STANDARD
BEGIN:DAYLIGHT
TZOFFSETFROM:-0600
TZOFFSETTO:-0500
TZNAME:CDT
DTSTART:20260308T080000
END:DAYLIGHT
BEGIN:STANDARD
TZOFFSETFROM:-0500
TZOFFSETTO:-0600
TZNAME:CST
DTSTART:20261101T070000
END:STANDARD
BEGIN:DAYLIGHT
TZOFFSETFROM:-0600
TZOFFSETTO:-0500
TZNAME:CDT
DTSTART:20270314T080000
END:DAYLIGHT
BEGIN:STANDARD
TZOFFSETFROM:-0500
TZOFFSETTO:-0600
TZNAME:CST
DTSTART:20271107T070000
END:STANDARD
END:VTIMEZONE
BEGIN:VEVENT
DTSTART;VALUE=DATE:20260817
DTEND;VALUE=DATE:20260822
DTSTAMP:20260419T110836
CREATED:20260122T221059Z
LAST-MODIFIED:20260201T104438Z
UID:23582-1786924800-1787356799@kbexcursions.com
SUMMARY:Michigan - Featuring: Sault Ste Marie\, Mackinac Island & Mackinaw City
DESCRIPTION:PACKAGE INCLUDES: \n\n5 Days\n4 Nights Lodging\n4 Breakfasts\n4 Dinners\nSault Ste. Marie\nSoo Locks Cruise\nTower of History\nMackinac Island\nMackinaw City Guided Tour\nOld Mackinac Point Lighthouse\nColonial Michilimackinac State Historical Village\n\n  \nMICHIGAN – FEATURING: SAULT STE. MARIE\,\nMACKINAC ISLAND\, & MACKINAW CITY\n5 Days – 4 Nights \n(Sample itinerary – exact times\, days\, and destinations may vary) \nDay 1 – Set off for Northern Michigan aboard a comfortable\, video- and restroom-equipped motorcoach\, enjoying scenic views\, dinner\, and a four-night hotel stay.  \nDay 2 – After a continental breakfast\, travel to Sault Ste. Marie for a fascinating Soo Locks Cruise. After the cruise you will have time for lunch\, shopping\, views from the Locks observation deck. We will also visit the Tower of History before dinner at a local restaurant.  \nDay 3  – A ferry ride to peaceful Mackinac Island\, where horse-drawn carriages replace cars. Enjoy a leisurely island tour featuring sights like Arch Rock and Lilac Lane\, explore the charming shops\, and end the day with dinner after crossing the Straits of Mackinac.  \nDay 4 – take a guided tour of Mackinaw City\, including the historic Old Mackinac Point Lighthouse and free time at Mackinaw Crossings\, followed by a visit to Colonial Michilimackinac State Historic Village and dinner.  \nDay 5 – After a final continental breakfast\, depart for home\, reminiscing about the beautiful sights and memorable experiences of your Northern Michigan getaway.  \nDouble Occupancy – $1\,049.00\nSingle Occupancy – $1\,248.00\n\nBOOK NOW!\n\n\n(Pickups in Johnson Creek\, Oconomowoc\, Goerke’s Corners\, Oak Creek and Kenosha. Additional pickup locations may be considered upon request.)\n\n\nTRIP CANCELLATION PROTECTION\nCancellation protection is encouraged for medical emergencies that may occur. The Enhanced option must be paid within 14 days from the day the first deposit for the trip is paid to the organization and/or group leader. There is an additional Enhanced upgrade – cancel for Any Reason. Cancellation must be made no later than 48 hours prior to your scheduled departure\, conditions\, limitations\, and exclusions do apply. These plans are only valid for trips booked through KB Excursions. To purchase the protection\, please contact NTA/AON Insurance via their website at https://nta.aontravelprotect.com and provide the Tour Operator Location #496056. \nKB TOURS TERMS/CONDITIONS
URL:https://kbexcursions.com/tours/michigan-featuring-sault-ste-marie-mackinac-island-mackinaw-city/
CATEGORIES:Extended Excursions
ATTACH;FMTTYPE=image/jpeg:https://kbexcursions.com/wp-content/uploads/2026/01/Mackinac-Point-Bridge-Lighthouse.jpg
END:VEVENT
END:VCALENDAR