BEGIN:VCALENDAR
VERSION:2.0
PRODID:-//KB Excursions LLC - ECPv6.15.17.1//NONSGML v1.0//EN
CALSCALE:GREGORIAN
METHOD:PUBLISH
X-ORIGINAL-URL:https://kbexcursions.com
X-WR-CALDESC:Events for KB Excursions LLC
REFRESH-INTERVAL;VALUE=DURATION:PT1H
X-Robots-Tag:noindex
X-PUBLISHED-TTL:PT1H
BEGIN:VTIMEZONE
TZID:America/Chicago
BEGIN:DAYLIGHT
TZOFFSETFROM:-0600
TZOFFSETTO:-0500
TZNAME:CDT
DTSTART:20250309T080000
END:DAYLIGHT
BEGIN:STANDARD
TZOFFSETFROM:-0500
TZOFFSETTO:-0600
TZNAME:CST
DTSTART:20251102T070000
END:STANDARD
BEGIN:DAYLIGHT
TZOFFSETFROM:-0600
TZOFFSETTO:-0500
TZNAME:CDT
DTSTART:20260308T080000
END:DAYLIGHT
BEGIN:STANDARD
TZOFFSETFROM:-0500
TZOFFSETTO:-0600
TZNAME:CST
DTSTART:20261101T070000
END:STANDARD
BEGIN:DAYLIGHT
TZOFFSETFROM:-0600
TZOFFSETTO:-0500
TZNAME:CDT
DTSTART:20270314T080000
END:DAYLIGHT
BEGIN:STANDARD
TZOFFSETFROM:-0500
TZOFFSETTO:-0600
TZNAME:CST
DTSTART:20271107T070000
END:STANDARD
END:VTIMEZONE
BEGIN:VEVENT
DTSTART;VALUE=DATE:20261201
DTEND;VALUE=DATE:20261208
DTSTAMP:20260419T165938
CREATED:20260121T070428Z
LAST-MODIFIED:20260122T221721Z
UID:23548-1796083200-1796687999@kbexcursions.com
SUMMARY:Holiday in Vermont - Featuring: Vermont Country Store\, Von Trapp Family Lodge & More
DESCRIPTION:PACKAGE INCLUDES: \n\n7 Days\n6 Nights Lodging\n5 Breakfasts\n5 Dinners\nMiddlebury Inn\nVermont Country Store\nBillings Farm & Museum\nCrowley Cheese\nMaple Woodcraft Toy Workshop\nCountry Christmas Loft\nVermont Teddy Bear Company\nSugarhouse\nShelburne Museum’s Holiday Winter Lights\nVon Trapp Family Lodge\nChoice of a Christmas Activity\nCider Mill\n\n  \nHOLIDAY IN VERMONT – FEATURING: VERMONT COUNTRY STORE\,\nVON TRAPP FAMILY LODGE & MORE\n7 Days – 6 Nights \n(Sample itinerary – exact times\, days\, and destinations may vary) \nDay 1 – Relax as we begin our festive journey to Vermont\, spending our first night in Cleveland\, OH.  \nDay 2 – After breakfast on Day 2\, we continue toward Vermont\, where you’ll be welcomed into a magical holiday setting and enjoy dinner surrounded by beautiful seasonal décor.  \nDay 3 – features a holiday-themed breakfast at the Middlebury Inn. After breakfast we will be visiting a charming step back into Victorian Christmas traditions at Billings Farm & Museum.  We will then visit the nostalgic Vermont Country Store\, followed by free time for lunch in Woodstock. A Crowley Cheese tasting—at America’s oldest continuously operating cheese factory—adds a delicious highlight before an included dinner. \nDay 5 – begins with a guided tour of the Trapp Family Lodge\, revealing the true story behind the famous family\, followed by a Christmas activity and lunch on your own in Stowe. In the afternoon\, choose between watching a handmade wreath being created or learning to make a holiday food gift\, then enjoy an engaging dog-sledding educational experience before dinner at the lodge and a fun Yankee Swap.  \nDay 6 – After breakfast\, we make a quick stop at a cider mill for their famous cider doughnuts\, then begin our journey home with an overnight stay in Cleveland.  \nDay 7 – After breakfast\, we depart for home filled with unforgettable Christmas memories. \nDouble Occupancy – $2\,256.00\nSingle Occupancy – $2\,975.00\n\n\nBOOK NOW!\n\n\n(Pickups in Johnson Creek\, Oconomowoc\, Goerke’s Corners\, Oak Creek and Kenosha. Additional pickup locations may be considered upon request.)\n\n\nTRIP CANCELLATION PROTECTION\nCancellation protection is encouraged for medical emergencies that may occur. The Enhanced option must be paid within 14 days from the day the first deposit for the trip is paid to the organization and/or group leader. There is an additional Enhanced upgrade – cancel for Any Reason. Cancellation must be made no later than 48 hours prior to your scheduled departure\, conditions\, limitations\, and exclusions do apply. These plans are only valid for trips booked through KB Excursions. To purchase the protection\, please contact NTA/AON Insurance via their website at https://nta.aontravelprotect.com and provide the Tour Operator Location #496056. \nKB TOURS TERMS/CONDITIONS
URL:https://kbexcursions.com/tours/holiday-in-vermont-featuring-vermont-country-store-von-trapp-family-lodge-more/
CATEGORIES:Extended Excursions
ATTACH;FMTTYPE=image/jpeg:https://kbexcursions.com/wp-content/uploads/2026/01/holiday-in-vermont.jpg
END:VEVENT
END:VCALENDAR